BEGIN:VCALENDAR
VERSION:2.0
PRODID:-//hacksw/handcal//NONSGML v1.0//EN
CALSCALE:GREGORIAN
BEGIN:VEVENT
DESCRIPTION:March 02 - 04\, 2027
  JEC World is the global trade fair for composites and their applications. It is the industry's leading event where all the key players meet to discuss innovation\, business and networking. Exhibitors from Saxony will be presenting themselves under the SAXONY! umbrella at the Paris Nord Villepinte Exhibition Center.
  URL: https://business-saxony.com/e202
URL;VALUE=URI:https://business-saxony.com/e202
DTSTART;VALUE=DATE:20270302
DTEND;VALUE=DATE:20270305
LOCATION:Paris Nord Villepinte Parc d'Expositions
SUMMARY:Meet SAXONY! at the JEC World Composites 2027
DTSTAMP:20260423T103247Z
UID:e64541c46c7242e8aa15cf8af11a142f95383079d91ab941
END:VEVENT
END:VCALENDAR