BEGIN:VCALENDAR
VERSION:2.0
PRODID:-//hacksw/handcal//NONSGML v1.0//EN
CALSCALE:GREGORIAN
BEGIN:VEVENT
DESCRIPTION:09. Juni 2026\, 10 - 18 Uhr
  Vom Rest- zum Wertstoff: Damit die wertvollsten Dinge nicht im Müll landen. Unter dieser Überschrift demonstrieren Praxisbeispiele\, welche Verwertungspotenziale schon heute in industriellen Reststoffströmen stecken. Diskutieren Sie mit Forschern und Anwendern neue Wertschöpfungsideen und Marktchancen für mehr Kreislauf- und biobasierte Wirtschaft.
  URL: https://business-saxony.com/e2430
URL;VALUE=URI:https://business-saxony.com/e2430
DTSTART;VALUE=DATE:20260609
DTEND;VALUE=DATE:20260610
LOCATION:Fraunhofer-Institut für Keramische Technologien und Systeme IKTS\, Winterbergstraße 28\, 01277 Dresden
SUMMARY:abonocare® - Jahreskonferenz
DTSTAMP:20260422T225200Z
UID:e64541c46c7242e813189b2ce4f5e366a6e5b27a7e17406d
END:VEVENT
END:VCALENDAR