BEGIN:VCALENDAR
VERSION:2.0
PRODID:-//hacksw/handcal//NONSGML v1.0//EN
CALSCALE:GREGORIAN
BEGIN:VEVENT
DESCRIPTION:10. Juni 2026\, 10 - 16 Uhr
  Biologische Reststoffe als wertvolle Rohstoffe begreifen und neue Wertschöpfungspfade erschließen. Lassen Sie sich vom Beispiel der kombinierten stofflichen und energetischen Verwertung in der Rubinmühle GmbH in Plauen inspirieren und diskutieren Sie die Potenziale von mehr Kreislaufwirtschaft und Bioökonomie.
  URL: https://business-saxony.com/e3391
URL;VALUE=URI:https://business-saxony.com/e3391
DTSTART;VALUE=DATE:20260610
DTEND;VALUE=DATE:20260611
LOCATION:Duale Hochschule Sachsen\, Standort Plauen (Schlossberg 1\, Plauen) und Rubinmühle Vogtland GmbH (Otto-Erbert-Straße 6\, 08527 Plauen)
SUMMARY:SMUL-Projektwerkstatt: Wertschöpfung mit Rest- und Nebenstoffströmen der Land- und Ernährungswirtschaft
DTSTAMP:20260423T155156Z
UID:e64541c46c7242e8e69bdf5593eaf8303b1345c9f60ddda2
END:VEVENT
END:VCALENDAR